Workbook

Sheet Summary
A3: Sum of Net | B3: Column Labels
A4: Row Labels | B4: 2017 | C4: 2018 | D4: Grand Total
A5: Coaching income | B5: 3145 | C5: 3206.5 | D5: 6351.5
A6: Membership | B6: 2349.2 | C6: 726 | D6: 3075.2
A7: Event income | B7: 2421.03 | D7: 2421.03
A8: Clothing sales | B8: 665.5 | C8: 40 | D8: 705.5
A9: (blank) | C9: 512.6 | D9: 512.6
A10: Donations received | B10: 134.37 | D10: 134.37
A11: CYB | B11: 30 | D11: 30
A12: Float | B12: 0 | C12: -60 | D12: -60
A13: CYB Costs | B13: -100 | D13: -100
A14: Walky talkies | C14: -137.99 | D14: -137.99
A15: Coaching costs | B15: -170 | C15: -388 | D15: -558
A16: Misc costs | B16: -504.94 | C16: -93.12 | D16: -598.06
A17: Clothing purchase | B17: -571.9 | C17: -392.3 | D17: -964.2
A18: Donations given | B18: -1200 | D18: -1200
A19: Event costs | B19: -1384.51 | C19: -319.58 | D19: -1704.09
A20: Training | B20: -800 | C20: -970 | D20: -1770
A21: Coaches wages | B21: -1160 | C21: -880 | D21: -2040
A22: Grand Total | B22: 2853.75 | C22: 1244.11 | D22: 4097.86
B24: =7078.05-4224.3 -> 2853.75

Sheet Sheet2
A1: Year | B1: 2019
A3: Row Labels | B3: Sum of Debit | C3: Sum of Credit
A4: BC Affiliation | B4: 132.5
A5: Clothing purchase | B5: 787 | C5: 155.6
A6: Coaches wages | B6: 3385
A7: Coaching costs | B7: 133.43
A8: Coaching income | C8: 4067.9
A9: Donations given | B9: 281.2 | C9: 75
A10: Gazebo | B10: 142.99
A11: Membership | B11: 123 | C11: 1024.3
A12: Misc costs | B12: 77.61
A13: Reliabilities | B13: 222 | C13: 272.5
A14: Sponsorship | B14: 135
A15: Training | B15: 1233.95
A16: Website | B16: 153.11
A17: Jumble | C17: 75
A18: Reliability | C18: 499
A19: Coaching other | B19: 213
A20: Xmas ride | B20: 185
A21: Turbos | B21: 33.57 | C21: 250.5
A22: Table top sale | C22: 206.2
A23: AGM | B23: 340
A24: Grand Total | B24: 7578.36 | C24: 6626
A33: 43788 | B33: DEP | C33: '30-95-41 | D33: 20505460 | E33: 500268 | G33: 263 | H33: 7483.63
A34: 43812 | B34: PAY | C34: '30-95-41 | D34: 20505460 | E34: 481 | F34: 158 | H34: 7148.34
A35: 43836 | B35: CHQ | C35: '30-95-41 | D35: 20505460 | E35: 484 | F35: 100 | H35: 6990.02
A36: 43874 | B36: DEP | C36: '30-95-41 | D36: 20505460 | E36: 500269 | G36: 25 | H36: 6534.62
A42: Transaction Date | B42: Transaction Type | C42: Sort Code | D42: Account Number | E42: Transaction Description | F42: Debit | G42: Credit | H42: Balance
A43: 43815 | B43: FPO | C43: '30-95-41 | D43: 20505460 | E43: ALISTAIR HOWIE 500000000544419835 AFFILIATION 309050 10 16DEC19 13:02 | F43: 75 | H43: =#REF!+G43-F43 -> #REF! | I43: =G43-F43 -> -75 | J43: BC Affiliation
A44: 43838 | B44: FPO | C44: '30-95-41 | D44: 20505460 | E44: MATT NIXON 300000000556214769 AFFILIATION 402820 10 08JAN20 12:55 | F44: 74 | H44: =H43+G44-F44 -> #REF! | I44: =G44-F44 -> -74 | J44: BC Affiliation
A45: 44165 | B45: FPO | C45: '30-95-41 | D45: 20505460 | E45: MATT NIXON 400000000687930587 AFFILIATION 402820 10 30NOV20 21:30 | F45: 74 | H45: =H44+G45-F45 -> #REF! | I45: =G45-F45 -> -74 | J45: BC Affiliation

Sheet All Years
B1: MCS accounts for AGM | C1: 2022 | D1: 2021 | E1: 2020 | F1: 2019 | G1: 2018 | H1: 2017
B2: Accounts to | C2: 44908 | D2: 44561 | E2: 44196 | F2: 43781 | G2: 43349 | H2: 43100
B4: Income
B6: Membership | C6: =SUMIF('2022'!F:F,B6,'2022'!E:E) -> 2122.3 | D6: ='2021'!C7 -> 1485 | E6: 539 | F6: 1024.2 | G6: 726 | H6: 1216.7
B7: Coaching | C7: =SUMIF('2022'!F:F,B7,'2022'!E:E) -> 3215 | D7: ='2021'!C15 -> 2995 | F7: 4067.9 | G7: 3207 | H7: 3145
B8: Clothing | C8: =SUMIF('2022'!F:F,B8,'2022'!E:E) -> 362 | D8: ='2021'!C9 -> 1808 | F8: 155.6 | G8: 40 | H8: 666
B9: Reliabilities | C9: =SUMIF('2022'!F:F,B9,'2022'!E:E) -> 370.6 | D9: ='2021'!C18 -> 192 | E9: 263 | F9: 771.5 | G9: 512.6 | H9: 509.23
B10: Xmas | C10: =SUMIF('2022'!F:F,B10,'2022'!E:E) -> 0 | F10: 75 | G10: 0 | H10: 134
B11: Turbos | C11: =SUMIF('2022'!F:F,B11,'2022'!E:E) -> 0 | F11: 250.5 | G11: 0 | H11: 0
B12: TBC | C12: =SUMIF('2022'!F:F,B12,'2022'!E:E) -> 0 | F12: 281 | H12: 3194.3
B13: Total Income | C13: =SUM(C6:C12) -> 6069.9 | D13: =SUM(D6:D12) -> 6480 | E13: =SUM(E6:E12) -> 802 | F13: 6625.7 | G13: 4485.6 | H13: 8865.23
B16: Expenses
B18: Coaching
B19: Coaches and helpers | C19: =-SUMIF('2022'!F:F,B19,'2022'!E:E) -> 294.99 | D19: ='2021'!D11 -> 285 | E19: 40 | F19: 3385 | G19: 1160 | H19: 1160
B20: Training & 1st Aid | C20: =-SUMIF('2022'!F:F,B20,'2022'!E:E) -> 871.24 | D20: ='2021'!D12+'2021'!D13 -> 998 | E20: 942 | F20: 1233.95 | G20: 970 | H20: 800
B21: Other coaching costs | C21: =-SUMIF('2022'!F:F,B21,'2022'!E:E) -> 186 | D21: ='2021'!D14 -> 30 | F21: 346.43 | G21: 108 | H21: 170
B23: Events
B24: Jumble sale | C24: =-SUMIF('2022'!F:F,B24,'2022'!E:E) -> 0 | F24: 281 | G24: 0 | H24: 0
B25: Reliabilities | C25: 0 | D25: ='2021'!D18 -> 155 | E25: 99 | F25: 222 | G25: 0 | H25: 73
B26: Xmas ride | C26: =-SUMIF('2022'!F:F,B26,'2022'!E:E) -> 0 | E26: 258 | F26: 185 | G26: 50 | H26: 180
B27: Venue hire | C27: =-SUMIF('2022'!F:F,B27,'2022'!E:E) -> 130
B28: AGM | C28: =-SUMIF('2022'!F:F,B28,'2022'!E:E) -> 0 | F28: 340 | H28: 119.26
B29: Other event | C29: =-SUMIF('2022'!F:F,B29,'2022'!E:E) -> 283.73 | D29: ='2021'!D19 -> 110 | F29: 34 | G29: 269.58 | H29: 2481
B31: Other
B32: Membership reimbursed | C32: =-SUMIF('2022'!F:F,B32,'2022'!E:E) -> 75 | D32: ='2021'!D7 -> 46 | E32: 207 | F32: 123 | G32: 0 | H32: 0
B33: Clothing costs | C33: =-SUMIF('2022'!F:F,B33,'2022'!E:E) -> 1515.03 | D33: ='2021'!D9 -> 2894 | E33: 218 | F33: 787 | G33: 392 | H33: 572
B34: Club Affiliation | C34: =-SUMIF('2022'!F:F,B34,'2022'!E:E) -> 201.32 | D34: ='2021'!D24 -> 316 | E34: 303 | F34: 132.5 | G34: 72 | H34: 71
B35: Equipment | C35: =-SUMIF('2022'!F:F,B35,'2022'!E:E) -> 213 | E35: 350 | F35: 142.99
B36: Rider sponsorship | C36: =-SUMIF('2022'!F:F,B36,'2022'!E:E) -> 0 | F36: 135
B37: Website | C37: =-SUMIF('2022'!F:F,B37,'2022'!E:E) -> 171.45 | D37: ='2021'!D27 -> 157 | E37: 201 | F37: 153.11 | H37: 34.89
B38: Other | C38: =-SUMIF('2022'!F:F,B38,'2022'!E:E) -> 288.35 | D38: 97 | E38: 52 | F38: 77.61 | G38: 219 | H38: 350.35
B40: Total Expenses | C40: =SUM(C18:C38) -> 4230.11 | D40: =SUM(D18:D38) -> 5088 | E40: =SUM(E18:E38) -> 2670 | F40: 7578.16 | G40: 3240.58 | H40: 6011.5
B42: Profit/ loss | C42: =C13-C40 -> 1839.79 | D42: =D13-D40 -> 1392 | E42: =E13-E40 -> -1868 | F42: -952.46 | G42: 1245.02 | H42: 2853.73
B44: Opening bank balance | C44: =D45 -> 6894.29 | D44: =E45 -> 5502.29 | E44: =F45 -> 7370.29 | F44: 8322.75 | G44: 7077.73 | H44: 4224
B45: Closing bank balance | C45: =C44+C42 -> 8734.08 | D45: =D44+D42 -> 6894.29 | E45: =E44+E42 -> 5502.29 | F45: 7370.29 | G45: 8322.75 | H45: 7077.73
C48: 8733.73
C49: =C45-C48 -> 0.35

Sheet Statements
A1: Transaction Date | B1: Transaction Type | C1: Sort Code | D1: Account Number | E1: Transaction Description | F1: Debit | G1: Credit | H1: Balance | I1: Net | J1: Class | K1: Year | L1: Notes
A2: 42741 | B2: FPI | C2: '30-95-41 | D2: 20505460 | E2: RANA A ANUSH RANA RP4659989282718500 202267 10 06JAN17 14:27 | G2: 15.6 | H2: 4239.9 | I2: =G2-F2 -> 15.6 | J2: Membership | K2: =YEAR(A2) -> 2017 | M2: =H2-G2 -> 4224.3
A3: 42744 | B3: CHQ | C3: '30-95-41 | D3: 20505460 | E3: 285 | F3: 571.9 | H3: 3677.3 | I3: =G3-F3 -> -571.9 | J3: Clothing purchase | K3: =YEAR(A3) -> 2017 | L3: hoodies
A4: 42744 | B4: TFR | C4: '30-95-41 | D4: 20505460 | E4: M HERRIOTT 07JAN17 MARK HERRIOTT | G4: 9.3 | H4: 4249.2 | I4: =G4-F4 -> 9.3 | J4: Membership | K4: =YEAR(A4) -> 2017
A5: 42755 | B5: BGC | C5: '30-95-41 | D5: 20505460 | E5: BRITISH CYCLING FE ZFCMA04 | G5: 117.3 | H5: 3794.6 | I5: =G5-F5 -> 117.3 | J5: Membership | K5: =YEAR(A5) -> 2017
A6: 42762 | B6: BGC | C6: '30-95-41 | D6: 20505460 | E6: BRITISH CYCLING FE ZFCMA04 | G6: 13.6 | H6: 3808.2 | I6: =G6-F6 -> 13.6 | J6: Membership | K6: =YEAR(A6) -> 2017
A7: 42766 | B7: FPI | C7: '30-95-41 | D7: 20505460 | E7: MR MARK A SKELTON COED/BRININSKELTON 11142828741116000N 558136 10 31JAN17 14:28 | G7: 17.6 | H7: 3825.8 | I7: =G7-F7 -> 17.6 | J7: Membership | K7: =YEAR(A7) -> 2017
A8: 42767 | B8: CHQ | C8: '30-95-41 | D8: 20505460 | E8: 288 | F8: 12 | H8: 3823.8 | I8: =G8-F8 -> -12 | J8: Misc costs | K8: =YEAR(A8) -> 2017 | L8: Domain name
A9: 42767 | B9: BGC | C9: '30-95-41 | D9: 20505460 | E9: BRITISH CYCLING FE ZZMAL01 | G9: 10 | H9: 3835.8 | I9: =G9-F9 -> 10 | J9: Event income | K9: =YEAR(A9) -> 2017 | L9: Eastnor entry
A10: 42782 | B10: BGC | C10: '30-95-41 | D10: 20505460 | E10: BRITISH CYCLING FE ZZMAL01 | G10: 85 | H10: 3908.8 | I10: =G10-F10 -> 85 | J10: Event income | K10: =YEAR(A10) -> 2017 | L10: Eastnor entry
A11: 42787 | B11: DEP | C11: '30-95-41 | D11: 20505460 | E11: 500184 | G11: 645.6 | H11: 4554.4 | I11: 509.23 | J11: Event income | K11: =YEAR(A11) -> 2017 | L11: Reliability
A12: 42787 | I12: 77 | J12: Clothing sales | K12: =YEAR(A12) -> 2017 | L12: Ed Kit
A13: 42787 | I13: 59.37 | J13: Donations received | K13: =YEAR(A13) -> 2017 | L13: Ride 4 charlie
A14: 42788 | B14: CHQ | C14: '30-95-41 | D14: 20505460 | E14: 286 | F14: 71 | H14: 4582.4 | I14: =G14-F14 -> -71 | J14: BC Affiliation | K14: =YEAR(A14) -> 2017 | L14: Club affiliation
A15: 42788 | B15: CHQ | C15: '30-95-41 | D15: 20505460 | E15: 290 | F15: 36 | H15: 4653.4 | I15: =G15-F15 -> -36 | J15: Misc costs | K15: =YEAR(A15) -> 2017 | L15: Go ride conf
A16: 42788 | B16: BGC | C16: '30-95-41 | D16: 20505460 | E16: BRITISH CYCLING FE ZZMAL01 | G16: 135 | H16: 4689.4 | I16: =G16-F16 -> 135 | J16: Event income | K16: =YEAR(A16) -> 2017 | L16: Eastnor entry
A17: 42794 | B17: CHQ | C17: '30-95-41 | D17: 20505460 | E17: 287 | F17: 50 | H17: 4532.4 | I17: =G17-F17 -> -50 | J17: Misc costs | K17: =YEAR(A17) -> 2017 | L17: Reliability reg
A18: 42796 | B18: CHQ | C18: '30-95-41 | D18: 20505460 | E18: 292 | F18: 108 | H18: 4544.4 | I18: =G18-F18 -> -108 | J18: Event costs | K18: =YEAR(A18) -> 2017 | L18: bc levies
A19: 42796 | B19: BGC | C19: '30-95-41 | D19: 20505460 | E19: BRITISH CYCLING FE ZZMAL01 | G19: 60 | H19: 4592.4 | I19: =G19-F19 -> 60 | J19: Event income | K19: =YEAR(A19) -> 2017 | L19: Eastnor entry
A20: 42796 | B20: BGC | C20: '30-95-41 | D20: 20505460 | E20: BRITISH CYCLING FE ZZMAL10 | G20: 60 | H20: 4652.4 | I20: =G20-F20 -> 60 | J20: Event income | K20: =YEAR(A20) -> 2017 | L20: Eastnor entry
A21: 42801 | B21: DEP | C21: '30-95-41 | D21: 20505460 | E21: 500185 | G21: 64.5 | H21: 4608.9 | I21: 50 | J21: Donations received | K21: =YEAR(A21) -> 2017
A22: 42801 | I22: 14.5 | J22: Clothing sales | K22: =YEAR(A22) -> 2017
A23: 42802 | B23: BGC | C23: '30-95-41 | D23: 20505460 | E23: BRITISH CYCLING FE ZZMAL01 | G23: 115 | H23: 4723.9 | I23: =G23-F23 -> 115 | J23: Event income | K23: =YEAR(A23) -> 2017 | L23: Eastnor entry
A24: 42802 | B24: BGC | C24: '30-95-41 | D24: 20505460 | E24: BRITISH CYCLING FE ZZMAL10 | G24: 135 | H24: 4858.9 | I24: =G24-F24 -> 135 | J24: Event income | K24: =YEAR(A24) -> 2017 | L24: Eastnor entry
A25: 42804 | B25: CHQ | C25: '30-95-41 | D25: 20505460 | E25: 289 | F25: 240 | H25: 4705.4 | I25: =G25-F25 -> -240 | J25: Event costs | K25: =YEAR(A25) -> 2017 | L25: Eastnor land hire
A26: 42804 | B26: BGC | C26: '30-95-41 | D26: 20505460 | E26: BRITISH CYCLING FE ZFCMA04 | G26: 86.5 | H26: 4945.4 | I26: =G26-F26 -> 86.5 | J26: Membership | K26: =YEAR(A26) -> 2017
A27: 42808 | B27: FPI | C27: '30-95-41 | D27: 20505460 | E27: KIRBY M A & M A PIERS KIRBY 36220359299505000N 600127 10 14MAR17 22:03 | G27: 17.5 | H27: 4722.9 | I27: =G27-F27 -> 17.5 | J27: Coaching income | K27: =YEAR(A27) -> 2017
A28: 42808 | B28: FPI | C28: '30-95-41 | D28: 20505460 | E28: ROCCA S/A DARCEY ROCCA 29224850118284000R 832845 10 14MAR17 22:48 | G28: 17.5 | H28: 4757.9 | I28: =G28-F28 -> 17.5 | J28: Coaching income | K28: =YEAR(A28) -> 2017
A29: 42808 | B29: FPI | C29: '30-95-41 | D29: 20505460 | E29: WILKINS&HATCHER J HATCHER WILKINS 13221038065518000N 522139 10 14MAR17 22:10 | G29: 17.5 | H29: 4740.4 | I29: =G29-F29 -> 17.5 | J29: Coaching income | K29: =YEAR(A29) -> 2017
A30: 42809 | B30: FPI | C30: '30-95-41 | D30: 20505460 | E30: AMY THORNBER TOBY THORNBER 00151075632BBDVSDQ 090126 10 15MAR17 19:14 | G30: 17.5 | H30: 5290.4 | I30: =G30-F30 -> 17.5 | J30: Coaching income | K30: =YEAR(A30) -> 2017
A31: 42809 | B31: FPI | C31: '30-95-41 | D31: 20505460 | E31: ARCHER VJ&B JOE ARCHER 052859701380513001 404777 10 15MAR17 08:31 | G31: 17.5 | H31: 5220.4 | I31: =G31-F31 -> 17.5 | J31: Coaching income | K31: =YEAR(A31) -> 2017
A32: 42809 | B32: FPI | C32: '30-95-41 | D32: 20505460 | E32: BRADLEY LUCKMAN J LUCKMAN 00151489632BBCFHKB 090127 10 15MAR17 20:58 | G32: 17.5 | H32: 5342.9 | I32: =G32-F32 -> 17.5 | J32: Coaching income | K32: =YEAR(A32) -> 2017
A33: 42809 | B33: BGC | C33: '30-95-41 | D33: 20505460 | E33: BRITISH CYCLING FE ZZMAL01 | G33: 275 | H33: 5167.9 | I33: =G33-F33 -> 275 | J33: Event income | K33: =YEAR(A33) -> 2017 | L33: Eastnor entry
A34: 42809 | B34: BGC | C34: '30-95-41 | D34: 20505460 | E34: BRITISH CYCLING FE ZZMAL10 | G34: 135 | H34: 4892.9 | I34: =G34-F34 -> 135 | J34: Event income | K34: =YEAR(A34) -> 2017 | L34: Eastnor entry
A35: 42809 | B35: FPI | C35: '30-95-41 | D35: 20505460 | E35: CATHERINE SMITH BARNEY SMITH 00153425632BLWDWSS 090128 10 15MAR17 20:35 | G35: 17.5 | H35: 5325.4 | I35: =G35-F35 -> 17.5 | J35: Coaching income | K35: =YEAR(A35) -> 2017
A36: 42809 | B36: FPI | C36: '30-95-41 | D36: 20505460 | E36: HARNDEN EM FAMILY HARNDEN 13144502704935000N 538133 10 15MAR17 14:45 | G36: 17.5 | H36: 5237.9 | I36: =G36-F36 -> 17.5 | J36: Coaching income | K36: =YEAR(A36) -> 2017
A37: 42809 | B37: FPI | C37: '30-95-41 | D37: 20505460 | E37: MARSHALL J&L Z&O MARSHALL 293465402180513001 402027 10 15MAR17 08:12 | G37: 35 | H37: 5202.9 | I37: =G37-F37 -> 35 | J37: Coaching income | K37: =YEAR(A37) -> 2017
A38: 42809 | B38: FPI | C38: '30-95-41 | D38: 20505460 | E38: MARTHA WORTHINGTON JONAH WORTHINGTON 00151489632BBCFHJP 090126 10 15MAR17 19:48 | G38: 17.5 | H38: 5307.9 | I38: =G38-F38 -> 17.5 | J38: Coaching income | K38: =YEAR(A38) -> 2017
A39: 42809 | B39: FPI | C39: '30-95-41 | D39: 20505460 | E39: NELSON T N WILLS+PTOLEMY NELS RP4659983902674400 204606 10 15MAR17 18:02 | G39: 35 | H39: 5272.9 | I39: =G39-F39 -> 35 | J39: Coaching income | K39: =YEAR(A39) -> 2017
A40: 42810 | B40: PAY | C40: '30-95-41 | D40: 20505460 | E40: 294 | F40: 300 | H40: 5042.9 | I40: =G40-F40 -> -300 | J40: Float | K40: =YEAR(A40) -> 2017
...

Sheet 2017
A1: Malvern Cyclesport
A2: Financial Statement 2017
E3: Receipts | F3: Expenditure | G3: Balance
A5: Opening bank balance | G5: 4224.3
A7: Membership | E7: =2349.2-1132.5 -> 1216.7 | G7: =E7-F7 -> 1216.7
A9: Kit | E9: 666 | F9: 572 | G9: =E9-F9 -> 94
A11: Coaching | C11: Coaching | E11: 3145 | F11: 1160
C12: Helpers | F12: 0
C13: Training | F13: 800
C14: Other (venue) | F14: 170
E15: =SUM(E11:E14) -> 3145 | F15: =SUM(F11:F14) -> 2130 | G15: =E15-F15 -> 1015
A17: Events | C17: Eastnor | E17: =1911.8+1132.5 -> 3044.3 | F17: =923+53.3 -> 976.3
C18: Coed-y-Brenin | E18: 150 | F18: 220
C19: Reliabilities | E19: 509.23 | F19: 73
C20: Xmas | F20: 180
C21: AGM | F21: 119.26
C22: Chimp night | F22: 85
E23: =SUM(E17:E22) -> 3703.53 | F23: =SUM(F17:F22) -> 1653.56 | G23: =E23-F23 -> 2049.97
A25: Donations (Ride for Charlie) | E25: 134.37 | F25: 1200 | G25: =E25-F25 -> -1065.63
A27: Other stuff | C27: BC Affiliation | F27: 71
C28: Bike maintenance | F28: 323.35
C29: Website | F29: 34.89
C30: Misc | F30: 27
F31: =SUM(F27:F30) -> 456.24 | G31: =-SUM(F27:F30) -> -456.24
A34: Closing balance | G34: =SUM(G5:G33) -> 7078.1
A36: Bank balance 31/12/2017 | G36: 7078.05
A38: Difference | G38: =G34-G36 -> 0.05
A40: Notes:
A41: Unpresented cheques
A42: 31.03.17 - Rider levies BC | C42: 235.5
A43: 26.03.17 - BC insurance Eastnor | C43: 272

Sheet 2018
A1: Malvern Cyclesport
A2: Financial Statement 2018
E3: Receipts | F3: Expenditure | G3: Balance
A5: Opening bank balance | G5: 7078
A7: Membership | E7: 726 | G7: =E7-F7 -> 726
A9: Kit | E9: 40 | F9: 392 | G9: =E9-F9 -> -352
A11: Coaching | C11: Coaching | E11: 3207 | F11: 880
C12: Helpers | F12: 280
C13: Training | F13: 970
C14: Other (venue) | F14: 108
E15: =SUM(E11:E14) -> 3207 | F15: =SUM(F11:F14) -> 2238 | G15: =E15-F15 -> 969
A17: Events | C17: Eastnor
C18: Coed-y-Brenin
C19: Reliabilities | E19: 512.6
C20: Xmas | F20: 50
C21: AGM
C22: Evie celebration | F22: 269.58
E23: =SUM(E17:E22) -> 512.6 | F23: =SUM(F17:F22) -> 319.58 | G23: =E23-F23 -> 193.02
A25: Donations (Ride for Charlie) | G25: =E25-F25 -> 0
A27: Other stuff | C27: BC Affiliation | F27: 72
C28: Walkie talkies | F28: 138
C29: Website
C30: Float | F30: 60
C31: Misc | F31: =93-72 -> 21
F32: =SUM(F27:F31) -> 291 | G32: =-SUM(F27:F31) -> -291
A35: Closing balance | G35: =SUM(G5:G34) -> 8323.02
A37: Bank balance 06/09/18 | G37: 8322.16
A39: Difference | G39: =G35-G37 -> 0.86 | H39: Unknown income
A41: Notes:
A42: Unpresented cheques
A43: 31.03.17 - Rider levies BC | C43: 235.5
A44: 26.03.17 - BC insurance Eastnor | C44: 272

Sheet 2019
A1: Malvern Cyclesport
A2: Financial Statement 2019
E3: Receipts | F3: Expenditure | G3: Balance | M3: Year | N3: 2019
A5: Opening bank balance 06/09/18 | G5: 8322.16 | M5: Row Labels | N5: Sum of Debit | O5: Sum of Credit
M6: BC Affiliation | N6: 132.5
A7: Membership | E7: =1014+10.2 -> 1024.2 | F7: 123 | G7: =E7-F7 -> 901.2 | M7: Clothing purchase | N7: 787 | O7: 155.6
M8: Coaches wages | N8: 3385
A9: Clothing | E9: 155.6 | F9: 787 | G9: =E9-F9 -> -631.4 | M9: Coaching costs | N9: 133.43
M10: Coaching income | O10: 4067.9
A11: Coaching | C11: Coaches and helpers | E11: 4067.9 | F11: 3385 | M11: Donations given | N11: 281.2 | O11: 75
C12: Training | F12: 1233.95 | M12: Gazebo | N12: 142.99
C13: Other | F13: =133.43+213 -> 346.43 | M13: Membership | N13: 123 | O13: 1024.3
E14: =SUM(E11:E13) -> 4067.9 | F14: =SUM(F11:F13) -> 4965.38 | G14: =E14-F14 -> -897.48 | M14: Misc costs | N14: 77.61
M15: Reliabilities | N15: 222 | O15: 272.5
A16: Events | C16: Jumble sale | E16: =75+206.2 -> 281.2 | F16: 281 | M16: Sponsorship | N16: 135
C17: Reliabilities | E17: =272.5+499 -> 771.5 | F17: =222 -> 222 | M17: Training | N17: 1233.95
C18: Xmas | E18: 75 | F18: 185 | M18: Website | N18: 153.11
C19: Turbos | E19: 250.5 | F19: 33.57 | M19: Jumble | O19: 75
C20: AGM | F20: 340 | M20: Reliability | O20: 499
E21: =SUM(E16:E20) -> 1378.2 | F21: =SUM(F16:F20) -> 1061.57 | G21: =E21-F21 -> 316.63 | M21: Coaching other | N21: 213
M22: Xmas ride | N22: 185
A23: Other stuff | C23: BC Affiliation | F23: 132.5 | M23: Turbos | N23: 33.57 | O23: 250.5
C24: Gazebo | F24: 142.99 | M24: Table top sale | O24: 206.2
C25: Rider sponsorship | F25: 135 | M25: AGM | N25: 340
C26: Website | F26: 153.11 | M26: Grand Total | N26: 7578.36 | O26: 6626
C27: Misc | F27: 77.61
F28: =SUM(F23:F27) -> 641.21 | G28: =-SUM(F23:F27) -> -641.21
G31: =SUM(G5:G30) -> 7369.9
A32: Closing balance
G33: 7369.8
A34: Bank balance 09/11/19
G35: =G31-G33 -> 0.1 | H35: Unknown income
A36: Difference

Sheet 2020
A1: Malvern Cyclesport
A2: Financial Statement 2019
C3: Receipts | D3: Expenses | E3: Balance | G3: Notes | K3: Year | L3: 2020
A5: Bank balance 09/11/19 | E5: 7370 | K5: Row Labels | L5: Sum of Debit | M5: Sum of Credit
K6: BC Affiliation | L6: 303
A7: Membership | C7: 539 | D7: 207 | E7: =C7-D7 -> 332 | G7: Reimbursed coaches membership | K7: Coaches wages | L7: 40
K8: Membership | L8: 206.59 | M8: 539.1
A9: Clothing | C9: 0 | D9: 218 | E9: =C9-D9 -> -218 | G9: Clothing design | K9: Misc costs | L9: 52.22 | M9: 0.01
K10: Reliabilities | L10: 99 | M10: 263
B11: Coaches and helpers | D11: 40 | K11: Training | L11: 942.4
B12: Training | D12: 942 | G12: 2xL1 + 1st aid | K12: Website | L12: 201.44
B13: Other | K13: Jumps | L13: 350
A14: Coaching | C14: =SUM(C11:C13) -> 0 | D14: =SUM(D11:D13) -> 982 | E14: =C14-D14 -> -982 | K14: Clothing | L14: 218.34
K15: Xmas | L15: 258
B16: Jumble sale | K16: Grand Total | L16: 2670.99 | M16: 802.11
B17: Reliabilities | C17: 263 | D17: 99
B18: Xmas | D18: 258 | G18: Butties and chips
B19: Turbos
B20: AGM
A21: Events | C21: =SUM(C16:C20) -> 263 | D21: =SUM(D16:D20) -> 357 | E21: =C21-D21 -> -94
B23: BC Affiliation | D23: 303 | G23: 3xBC + Cycling UK
B24: Portable bike jumps | D24: 350
B25: Rider sponsorship
B26: Website | D26: 201
B27: Misc | D27: 52
A28: Other | C28: =SUM(C23:C27) -> 0 | D28: =SUM(D23:D27) -> 906 | E28: =-SUM(D23:D27) -> -906
A31: TOTALS | C31: =C28+C21+C14+C9+C7 -> 802 | D31: =D28+D21+D14+D9+D7 -> 2670 | E31: =SUM(E7:E30) -> -1868
A33: Closing balance | E33: =E5+E31 -> 5502
A35: Bank balance 31/12/20 | E35: 5500.92
A36: Difference | E36: =E33-E35 -> 1.08 | G36: Unknown income

Sheet 2021
A1: Malvern Cyclesport
A2: Financial Statement
C3: Receipts | D3: Expenses | E3: Balance | G3: Notes | K3: Year | L3: 2021
A5: Bank balance 31/12/2020 | E5: 5502 | K5: Row Labels | L5: Sum of Debit | M5: Sum of Credit
K6: BC Affiliation | L6: 316
A7: Membership | C7: 1485 | D7: 46 | E7: =C7-D7 -> 1439 | G7: Reimbursed coaches membership | K7: Membership | L7: 46 | M7: 1485.8
K8: Training | L8: 275
A9: Clothing | C9: 1808 | D9: 2894 | E9: =C9-D9 -> -1086 | G9: Clothing design | K9: Website | L9: 157.18
K10: Clothing | L10: 2894.4 | M10: 1809
B11: Coaches and helpers | D11: 285 | K11: Coaching | L11: 285 | M11: 2995
B12: Training | D12: 275 | G12: 1xL1 | K12: Events | L12: 170.2
B13: 1st Aid | D13: =840-117 -> 723 | G13: Borderlands various | K13: Other Coaching costs | L13: 30
B14: Other | D14: 30 | G14: Sagfeguarding + membership reimbursed | K14: 1st Aid | L14: 840 | M14: 117
A15: Coaching | C15: 2995 | D15: =SUM(D11:D14) -> 1313 | E15: =C15-D15 -> 1682 | K15: Grand Total | L15: 5013.78 | M15: 6406.8
B17: Jumble sale
B18: Reliabilities | C18: 192 | D18: =60+95 -> 155
B19: Coaching chips | D19: 110 | G19: Butties and chips
B20: Turbos
B21: AGM | L21: =E5+GETPIVOTDATA("Sum of Credit ",$K$5)-GETPIVOTDATA("Sum of Debit ",$K$5) -> 6895.02
A22: Events | C22: =SUM(C17:C21) -> 192 | D22: =SUM(D17:D21) -> 265 | E22: =C22-D22 -> -73
B24: Club Affiliation | D24: 316 | G24: BC + CTT
B25: Portable bike jumps
B26: Rider sponsorship
B27: Website | D27: 157
B28: Misc
A29: Other | C29: =SUM(C24:C28) -> 0 | D29: =SUM(D24:D28) -> 473 | E29: =-SUM(D24:D28) -> -473
A32: TOTALS | C32: =C29+C22+C15+C9+C7 -> 6480 | D32: =D29+D22+D15+D9+D7 -> 4991 | E32: =SUM(E7:E31) -> 1489
A34: Closing balance | E34: =E5+E32 -> 6991
A36: Bank balance 31/12/21 | E36: 6894
A37: Difference | E37: =E34-E36 -> 97 | G37: Cash

Sheet 2022
I1: Item | J1: £ | K1: Group
I2: Paying in 500270 | J2: 300.6 | K2: TBC
A3: Row Labels | B3: Sum of Net | D3: Row Labels | E3: Sum of Net | F3: Group | I3: Paying in 500271 | J3: 70 | K3: TBC
A4: BRITISH CYCLING FE ZFCMA04 | B4: 2020 | D4: BRITISH CYCLING FE ZFCMA04 | E4: 2020 | F4: Membership | I4: Chq 485 | J4: -85 | K4: TBC
A5: PAYPAL PPWDL4FW222222NDW8 PPWD100000000075J7 235262 10 06JUL22 09:31 | B5: 1250 | D5: PAYPAL PPWDL4FW222222NDW8 PPWD100000000075J7 235262 10 06JUL22 09:31 | E5: 1250 | F5: Coaching | I5: DAVID MILLARD MCS SOCIAL 10 27SEP22 07:37 | J5: -283.73 | K5: Other event
A6: PAYPAL PPWDL4FW2222325RJA PPWD100000000A0WLG 235262 10 01APR22 14:59 | B6: 1150 | D6: PAYPAL PPWDL4FW2222325RJA PPWD100000000A0WLG 235262 10 01APR22 14:59 | E6: 1150 | F6: Coaching
A7: PAYPAL PPWDL4FW2222427Y3Y PPWD100000000K19UN 235262 10 23SEP22 16:36 | B7: 775 | D7: PAYPAL PPWDL4FW2222427Y3Y PPWD100000000K19UN 235262 10 23SEP22 16:36 | E7: 775 | F7: Coaching
A8: 500270 | B8: 300.6 | D8: 500270 | E8: 300.6 | F8: Reliabilities
A9: 500271 | B9: 70 | D9: 500271 | E9: 70 | F9: Reliabilities
A10: HAY WILLIAM W HAY MTB JERSEY FP22195O02015841 070806 10 14JUL22 17:37 | B10: 36 | D10: HAY WILLIAM W HAY MTB JERSEY FP22195O02015841 070806 10 14JUL22 17:37 | E10: 36 | F10: Clothing
A11: B DALE BEN DALE MTB JERSE 600000000965691783 110342 10 13JUL22 13:21 | B11: 36 | D11: B DALE BEN DALE MTB JERSE 600000000965691783 110342 10 13JUL22 13:21 | E11: 36 | F11: Clothing
A12: BOND M P MTB JERSEY. M BOND 016762844412617001 403109 10 16JUL22 21:44 | B12: 36 | D12: BOND M P MTB JERSEY. M BOND 016762844412617001 403109 10 16JUL22 21:44 | E12: 36 | F12: Clothing
A13: SLINGER C W CHRISSLINGERMTBJRS RP4659988264017300 209861 10 28JUL22 13:47 | B13: 36 | D13: SLINGER C W CHRISSLINGERMTBJRS RP4659988264017300 209861 10 28JUL22 13:47 | E13: 36 | F13: Clothing
A14: TANNER KMIKMAJ&K TANNER MTB JERSEY 165059208371617001 404775 10 16JUL22 17:38 | B14: 36 | D14: TANNER KMIKMAJ&K TANNER MTB JERSEY 165059208371617001 404775 10 16JUL22 17:38 | E14: 36 | F14: Clothing
A15: HILL JAMES MTB JERSEY FP22315O08318565 070436 10 11NOV22 12:22 | B15: 36 | D15: HILL JAMES MTB JERSEY FP22315O08318565 070436 10 11NOV22 12:22 | E15: 36 | F15: Clothing
A16: CROPPER AM SHIRT BREN CROPPER 360415620581034001 404787 10 30APR22 18:50 | B16: 36 | D16: CROPPER AM SHIRT BREN CROPPER 360415620581034001 404787 10 30APR22 18:50 | E16: 36 | F16: Clothing
A17: MARTHA WORTHINGTON KIT JONAH W 00151489632BBFNSMR 090127 10 12JUL22 22:13 | B17: 30 | D17: MARTHA WORTHINGTON KIT JONAH W 00151489632BBFNSMR 090127 10 12JUL22 22:13 | E17: 30 | F17: Clothing
A18: TIBBITS M C E CD TIBBITS MTB JERSEY 10132021731300000N 541053 10 16JUL22 13:20 | B18: 30 | D18: TIBBITS M C E CD TIBBITS MTB JERSEY 10132021731300000N 541053 10 16JUL22 13:20 | E18: 30 | F18: Clothing
A19: AMY THORNBER MTB JERSEY 00151075632BBMGBPV 090126 10 30JUL22 20:57 | B19: 30 | D19: AMY THORNBER MTB JERSEY 00151075632BBMGBPV 090126 10 30JUL22 20:57 | E19: 30 | F19: Clothing
A20: EDWARD MOSELEY COACHING SAM RICHA 00153425632DXZBLDV 090128 10 13JUL22 11:57 | B20: 30 | D20: EDWARD MOSELEY COACHING SAM RICHA 00153425632DXZBLDV 090128 10 13JUL22 11:57 | E20: 30 | F20: Coaching
A21: JONES STUART MEMBERSHIP SJONES FP22087O19560384 070116 10 28MAR22 21:05 | B21: 21 | D21: JONES STUART MEMBERSHIP SJONES FP22087O19560384 070116 10 28MAR22 21:05 | E21: 21 | F21: Membership
... A51: MATT NIXON 400000001027872386 AFFILIATION BC 402820 10 31OCT22 07:59 | B51: -74 | D51: MATT NIXON 400000001027872386 AFFILIATION BC 402820 10 31OCT22 07:59 | E51: -74 | F51: Club Affiliation
A52: 485 | B52: -85 | D52: 485 | E52: -85 | F52: Club Affiliation
A53: JESSICA RHODES-JON 200000000882846635 TIME TRIAL KIT 542147 10 08FEB22 18:24 | B53: -100 | D53: JESSICA RHODES-JON 200000000882846635 TIME TRIAL KIT 542147 10 08FEB22 18:24 | E53: -100 | F53: Clothing costs
A54: EDWARD MOSELEY 500000000923904173 1ST AID COURSE 090128 10 24APR22 07:08 | B54: -140 | D54: EDWARD MOSELEY 500000000923904173 1ST AID COURSE 090128 10 24APR22 07:08 | E54: -140 | F54: Training & 1st Aid
A55: BEN DALE 500000000900169888 FIRST AID COURSE 110342 10 07MAR22 08:05 | B55: -145 | D55: BEN DALE 500000000900169888 FIRST AID COURSE 110342 10 07MAR22 08:05 | E55: -145 | F55: Training & 1st Aid
A56: EDWARD MOSELEY 300000000973061914 ICE CREAM COACHING 090128 10 21JUL22 07:48 | B56: -186 | D56: EDWARD MOSELEY 300000000973061914 ICE CREAM COACHING 090128 10 21JUL22 07:48 | E56: -186 | F56: Other coaching costs
A57: JESSICA RHODES-JON 300000001000124882 MUGS 542147 10 11SEP22 08:11 | B57: -198.57 | D57: JESSICA RHODES-JON 300000001000124882 MUGS 542147 10 11SEP22 08:11 | E57: -198.57 | F57: Other
A58: MIKE TIBBITS 500000000934326367 LIGHTS 541053 10 13MAY22 06:18 | B58: -213 | D58: MIKE TIBBITS 500000000934326367 LIGHTS 541053 10 13MAY22 06:18 | E58: -213 | F58: Equipment
A59: KALAS WEAR LTD. 300000001001266264 KIT DESIGN 309828 10 13SEP22 16:21 | B59: -247.68 | D59: KALAS WEAR LTD. 300000001001266264 KIT DESIGN 309828 10 13SEP22 16:21 | E59: -247.68 | F59: Clothing costs
A60: HUGH WARWICK 300000001014150359 COACHING COURSE 404505 10 07OCT22 08:24 | B60: -275 | D60: HUGH WARWICK 300000001014150359 COACHING COURSE 404505 10 07OCT22 08:24 | E60: -275 | F60: Training & 1st Aid
A61: DAVID MILLARD 600000001004257111 MCS SOCIAL 070436 10 27SEP22 07:37 | B61: -283.73 | D61: DAVID MILLARD 600000001004257111 MCS SOCIAL 070436 10 27SEP22 07:37 | E61: -283.73 | F61: Other event
A62: JUSTIN DAWKINS 500000001002199212 HELPERS COACHING 040004 10 22SEP22 17:29 | B62: -288.02 | D62: JUSTIN DAWKINS 500000001002199212 HELPERS COACHING 040004 10 22SEP22 17:29 | E62: -288.02 | F62: Training & 1st Aid
A63: GARY VALANCE 200000000990942304 COACHING 309332 10 07SEP22 07:33 | B63: -294.99 | D63: GARY VALANCE 200000000990942304 COACHING 309332 10 07SEP22 07:33 | E63: -294.99 | F63: Coaches and helpers
A64: SCIMITAR SPORTS UK 300000000937895550 KIT 404717 10 13MAY22 12:45 | B64: -1123.2 | D64: SCIMITAR SPORTS UK 300000000937895550 KIT 404717 10 13MAY22 12:45 | E64: -1123.2 | F64: Clothing costs
A65: Grand Total | B65: 1839.79 | D65: Grand Total | E65: 1839.79
